BEGIN:VCALENDAR
VERSION:2.0
PRODID:icalendar-ruby
CALSCALE:GREGORIAN
METHOD:PUBLISH
BEGIN:VEVENT
DTSTAMP:20260421T101101Z
UID:6-293902@everybodys-church.org
DTSTART:20260726T140000Z
DTEND:20260726T160000Z
CLASS:PUBLIC
CREATED:20260420T200844
DESCRIPTION:
LAST-MODIFIED:20260420T200844
LOCATION:157 Schumacher Rd\, San Antonio\, TX 78220
SUMMARY:Sunday School
URL;VALUE=URI:https://www.everybodys-church.org/events/sunday-school/2026-0
 7-26
END:VEVENT
END:VCALENDAR
