BEGIN:VCALENDAR
VERSION:2.0
PRODID:icalendar-ruby
CALSCALE:GREGORIAN
METHOD:PUBLISH
BEGIN:VEVENT
DTSTAMP:20260419T124232Z
UID:7-291816@everybodys-church.org
DTSTART:20260816T160000Z
DTEND:20260816T180000Z
CLASS:PUBLIC
CREATED:20260419T025007
DESCRIPTION:
LAST-MODIFIED:20260419T025007
LOCATION:157 Schumacher Rd\, San Antonio\, TX 78220
SUMMARY:Sunday Service
URL;VALUE=URI:https://www.everybodys-church.org/events/sunday-service/2026-
 08-16
END:VEVENT
END:VCALENDAR
