BEGIN:VCALENDAR
VERSION:2.0
PRODID:icalendar-ruby
CALSCALE:GREGORIAN
METHOD:PUBLISH
BEGIN:VEVENT
DTSTAMP:20260419T184705Z
UID:7-292181@everybodys-church.org
DTSTART:20260913T160000Z
DTEND:20260913T180000Z
CLASS:PUBLIC
CREATED:20260419T115547
DESCRIPTION:
LAST-MODIFIED:20260419T115547
LOCATION:157 Schumacher Rd\, San Antonio\, TX 78220
SUMMARY:Sunday Service
URL;VALUE=URI:https://www.everybodys-church.org/events/sunday-service/2026-
 09-13
END:VEVENT
END:VCALENDAR
