BEGIN:VCALENDAR
VERSION:2.0
PRODID:icalendar-ruby
CALSCALE:GREGORIAN
METHOD:PUBLISH
BEGIN:VEVENT
DTSTAMP:20260420T012519Z
UID:7-292548@everybodys-church.org
DTSTART:20261011T160000Z
DTEND:20261011T180000Z
CLASS:PUBLIC
CREATED:20260419T192021
DESCRIPTION:
LAST-MODIFIED:20260419T192021
LOCATION:157 Schumacher Rd\, San Antonio\, TX 78220
SUMMARY:Sunday Service
URL;VALUE=URI:https://www.everybodys-church.org/events/sunday-service/2026-
 10-11
END:VEVENT
END:VCALENDAR
